BEGIN:VCALENDAR
VERSION:2.0
PRODID:DPCALENDAR
CALSCALE:GREGORIAN
X-WR-TIMEZONE:UTC
BEGIN:VEVENT
DTSTART;TZID=UTC:20231205T110000
DTEND;TZID=UTC:20231207T120000
UID:5C7D975E-E7D2-4E02-959A-7053B8B4721C
SUMMARY:Upcoming Matches
CREATED:20231204T112242Z
DTSTAMP:20231204T112242Z
URL:https://westhillutd.com/index.php/calendar/upcoming-matches
DESCRIPTION:Community Outreach and Youth Clinics\NWesthill United's players participated in a series of community outreach programs, including football clinics for local school children. The initiative aimed to inspire the next generation of footballers and strengthen community bonds.
X-ALT-DESC;FMTTYPE=text/html:<p>Community Outreach and Youth Clinics</p><p>Westhill United's players participated in a series of community outreach programs, including football clinics for local school children. The initiative aimed to inspire the next generation of footballers and strengthen community bonds.</p>
LAST-MODIFIED:20231204T120442Z
SEQUENCE:2520
LOCATION:Starlets 91 Road\, Accra\, Greater Accra Region GA-222-2148\, Ghana
GEO:5.55151530;-0.19233514
X-LOCATION-DISPLAYNAME:Ghana, Greater Accra Region, Korle-Klottey Municipal District, Accra, GA-222-2148, Starlets 91 Road
X-ACCESS:1
X-HITS:63
X-COLOR:cf3ab4
X-IMAGE-FULL:https://westhillutd.com/images/WestHillUtd/homeslides_westhillUtd/WestHillsUnited_homeslide4.jpg
X-IMAGE-INTRO:https://westhillutd.com/images/WestHillUtd/Westhill-United-Featured-Stories/Westhill-United-004.png
X-SHOW-END-TIME:1
END:VEVENT
BEGIN:VEVENT
DTSTART;TZID=UTC:20231208T110000
DTEND;TZID=UTC:20231217T120000
UID:C9BB9FEE-B56C-4F33-AE93-FCD75070A739
SUMMARY:Global Upcoming Matches
CREATED:20231204T112242Z
DTSTAMP:20231204T112242Z
URL:https://westhillutd.com/index.php/calendar/global-upcoming-matches
DESCRIPTION:Celebrating Club's Anniversary: Westhill United celebrated its 50th anniversary with a gala event attended by past and present players, staff, and supporters. The event was a nostalgic journey through the club's history, honoring its achievements and contributions to the sport.
X-ALT-DESC;FMTTYPE=text/html:<p>Celebrating Club's Anniversary: Westhill United celebrated its 50th anniversary with a gala event attended by past and present players, staff, and supporters. The event was a nostalgic journey through the club's history, honoring its achievements and contributions to the sport.</p>
LAST-MODIFIED:20231204T115738Z
SEQUENCE:2096
LOCATION:Starlets 91 Road\, Accra\, Greater Accra Region GA-222-2148\, Ghana
GEO:5.55151530;-0.19233514
X-LOCATION-DISPLAYNAME:Ghana, Greater Accra Region, Korle-Klottey Municipal District, Accra, GA-222-2148, Starlets 91 Road
X-ACCESS:1
X-HITS:56
X-COLOR:813ad1
X-IMAGE-FULL:https://westhillutd.com/images/WestHillUtd/homeslides_westhillUtd/WestHillsUnited_homeslide1.jpg
X-SHOW-END-TIME:1
END:VEVENT
END:VCALENDAR